BEGIN:VCALENDAR
VERSION:2.0
PRODID:-//Tariq Chebab - ECPv6.15.20//NONSGML v1.0//EN
CALSCALE:GREGORIAN
METHOD:PUBLISH
X-ORIGINAL-URL:https://tariqchebab.com
X-WR-CALDESC:Évènements pour Tariq Chebab
REFRESH-INTERVAL;VALUE=DURATION:PT1H
X-Robots-Tag:noindex
X-PUBLISHED-TTL:PT1H
BEGIN:VTIMEZONE
TZID:UTC
BEGIN:STANDARD
TZOFFSETFROM:+0000
TZOFFSETTO:+0000
TZNAME:UTC
DTSTART:20240101T000000
END:STANDARD
END:VTIMEZONE
BEGIN:VEVENT
DTSTART;TZID=UTC:20251104T080000
DTEND;TZID=UTC:20260211T170000
DTSTAMP:20260422T141942
CREATED:20250716T142610Z
LAST-MODIFIED:20251027T163308Z
UID:274-1762243200-1770829200@tariqchebab.com
SUMMARY:Formation Coiffure\, Esthétique & Hammam
DESCRIPTION:Formation de base – Niveau débutantDurée : 3 mois Public: 25 jeunes (18-35 ans) | Niveau requis : Aucun prérequis \n			\n				\n				\n				\n				\n				🎯 Objectifs généraux– Initier les jeunes aux métiers de la beauté et du bien-être.– Leur transmettre les compétences de base en coiffure\, esthétique et hammam.– Favoriser leur insertion professionnelle ou leur auto-emploi a l’issue de la formation.\n			\n				\n				\n				\n				\n				Télécharger le Flyer\n			\n				\n			\n				Réserver\n			\n			\n				\n				\n				\n				\n			\n				\n				\n			\n				\n				\n				\n				\n				\n				\n				\n				\n				\n				\n				\n				\n				\n				\n				\n				\n				\n				\n				\n				\n					No events found.
URL:https://tariqchebab.com/event/coiffure-esthetique-hammam/
LOCATION:Tariq Chebab\, Tevragh Zeina\, Avenue cheikh Sabah\, Nouakchott\, Nouakchott\, Mauritania
CATEGORIES:Formations
ATTACH;FMTTYPE=image/jpeg:https://tariqchebab.com/wp-content/uploads/2025/07/modebeaute-scaled.jpg
ORGANIZER;CN="Tariq Chebab":MAILTO:contact@tariqchebab.com
END:VEVENT
END:VCALENDAR